BEGIN:VCALENDAR
VERSION:2.0
PRODID:-//House Of Glory - ECPv6.15.14//NONSGML v1.0//EN
CALSCALE:GREGORIAN
METHOD:PUBLISH
X-ORIGINAL-URL:https://www.houseofglory.ca
X-WR-CALDESC:Events for House Of Glory
REFRESH-INTERVAL;VALUE=DURATION:PT1H
X-Robots-Tag:noindex
X-PUBLISHED-TTL:PT1H
BEGIN:VTIMEZONE
TZID:America/Edmonton
BEGIN:DAYLIGHT
TZOFFSETFROM:-0700
TZOFFSETTO:-0600
TZNAME:MDT
DTSTART:20230312T090000
END:DAYLIGHT
BEGIN:STANDARD
TZOFFSETFROM:-0600
TZOFFSETTO:-0700
TZNAME:MST
DTSTART:20231105T080000
END:STANDARD
BEGIN:DAYLIGHT
TZOFFSETFROM:-0700
TZOFFSETTO:-0600
TZNAME:MDT
DTSTART:20240310T090000
END:DAYLIGHT
BEGIN:STANDARD
TZOFFSETFROM:-0600
TZOFFSETTO:-0700
TZNAME:MST
DTSTART:20241103T080000
END:STANDARD
BEGIN:DAYLIGHT
TZOFFSETFROM:-0700
TZOFFSETTO:-0600
TZNAME:MDT
DTSTART:20250309T090000
END:DAYLIGHT
BEGIN:STANDARD
TZOFFSETFROM:-0600
TZOFFSETTO:-0700
TZNAME:MST
DTSTART:20251102T080000
END:STANDARD
BEGIN:DAYLIGHT
TZOFFSETFROM:-0700
TZOFFSETTO:-0600
TZNAME:MDT
DTSTART:20260308T090000
END:DAYLIGHT
BEGIN:STANDARD
TZOFFSETFROM:-0600
TZOFFSETTO:-0700
TZNAME:MST
DTSTART:20261101T080000
END:STANDARD
END:VTIMEZONE
BEGIN:VEVENT
DTSTART;TZID=America/Edmonton:20241231T210000
DTEND;TZID=America/Edmonton:20250101T123000
DTSTAMP:20260422T170515
CREATED:20220112T092346Z
LAST-MODIFIED:20240222T223747Z
UID:202-1735678800-1735734600@www.houseofglory.ca
SUMMARY:New Year's Eve Celebration
DESCRIPTION:At HOGIM\, our New Year’s Eve Celebration is usually our biggest event of the year. As usual this year we will be hosting a special New Year’s Eve Celebration from 9:00pm to 12:30am on December 31. Bring your friends and family members for this life changing family friendly celebration service that includes powerful praise and worship\, efficacious prayers\, joyful dancing\, prophetic declarations to set the tone for the new year  and noisemakers to help everyone ring in the New Year! For more information: call our Admin Office.
URL:https://www.houseofglory.ca/event/class-biblical-vision-of-justice-2/
LOCATION:The Citadel Centre\, 9253 48 Street NW\, Edmonton\, T6B2R9\, Canada
CATEGORIES:All Church
ATTACH;FMTTYPE=image/png:https://www.houseofglory.ca/wp-content/uploads/2015/04/New-Years-Eve-Celebration.png
ORGANIZER;CN="House Of Glory":MAILTO:admin@houseofglory.ca
END:VEVENT
BEGIN:VEVENT
DTSTART;TZID=America/Edmonton:20241225T100000
DTEND;TZID=America/Edmonton:20241225T110000
DTSTAMP:20260422T170515
CREATED:20220103T135016Z
LAST-MODIFIED:20240302T234151Z
UID:105-1735120800-1735124400@www.houseofglory.ca
SUMMARY:Christmas Service
DESCRIPTION:Christmas in House Of Glory is always a warm and meaningful Christmas experience that’s fun for the whole family. With songs you know and love\, beautiful music\, the Christmas story\, and a candle-lighting\, this will be the highlight of your holiday season. Christ is at the center of all that we do at House Of Glory; what better way to honor Christ and enjoy the most celebrated holiday in the world. Make plans to join us for our Christmas Service this year; it would be one of the best decisions you ever made.
URL:https://www.houseofglory.ca/event/class-how-to-study-the-bible-2/
LOCATION:The Citadel Centre\, 9253 48 Street NW\, Edmonton\, T6B2R9\, Canada
CATEGORIES:All Church
ATTACH;FMTTYPE=image/jpeg:https://www.houseofglory.ca/wp-content/uploads/2022/01/Christmas-2.jpg
ORGANIZER;CN="House Of Glory":MAILTO:admin@houseofglory.ca
END:VEVENT
BEGIN:VEVENT
DTSTART;TZID=America/Edmonton:20240616T100000
DTEND;TZID=America/Edmonton:20240616T130000
DTSTAMP:20260422T170515
CREATED:20220112T091918Z
LAST-MODIFIED:20240302T234007Z
UID:198-1718532000-1718542800@www.houseofglory.ca
SUMMARY:Father's Day Celebration
DESCRIPTION:Join us on this Father’s Day for a refreshing in-person or online experience\, as families from all walks of life come together to celebrate fathers in our community and the society at large. \nFather’s Day Celebration in the Canada\, is usually on the (third Sunday in June)\, celebrated to honor fathers. Although it was originally largely a religious holiday\, Father’s Day has been celebrated with the sending of greeting cards and the giving of gifts to Dads\, and other males—for example\, grandfathers or uncles who have assumed parenting roles. At HOGIM we simply celebrate all men who have made a difference in someone’s life in our community. This is usually a special service in honor of Fathers. Come with your family and friends to celebrate Father’s Day at HOGIM this year. You will be glad you did.
URL:https://www.houseofglory.ca/event/all-church-hymn-song-2/
LOCATION:The Citadel Centre\, 9253 48 Street NW\, Edmonton\, Alberta\, T6B2R9\, Canada
CATEGORIES:All Church
ATTACH;FMTTYPE=image/jpeg:https://www.houseofglory.ca/wp-content/uploads/2015/04/Fatthers-Day-Celebration.jpg
ORGANIZER;CN="House Of Glory":MAILTO:admin@houseofglory.ca
END:VEVENT
BEGIN:VEVENT
DTSTART;TZID=America/Edmonton:20240512T100000
DTEND;TZID=America/Edmonton:20240512T130000
DTSTAMP:20260422T170515
CREATED:20220112T092049Z
LAST-MODIFIED:20240302T233123Z
UID:199-1715508000-1715518800@www.houseofglory.ca
SUMMARY:Mother's Day celebration
DESCRIPTION:Pandemic times have meant moms have had to work extra hard these past years. At HOGIM we plan to make this year’s Mother’s Day celebration extra special! And we will be sure to make every mom in attendance feel special by presenting them with special gifts\, showing how much we love and appreciate all that they do. We will round up all the fun that’s happening in mom’s honor! We will share God’s word and music as it pertains to mothers. We will conclude the event with special barbecue to everyone’s taste within our premises on the outside of our church building. Join us this Mother’s Day as we celebrate the mothers in our community.
URL:https://www.houseofglory.ca/event/child-dedications-3/
LOCATION:The Citadel Centre\, 9253 48 Street NW\, Edmonton\, Alberta\, T6B2R9\, Canada
CATEGORIES:All Church
ATTACH;FMTTYPE=image/jpeg:https://www.houseofglory.ca/wp-content/uploads/2015/04/Mothers-Day-Celebration.jpg
ORGANIZER;CN="House Of Glory":MAILTO:admin@houseofglory.ca
END:VEVENT
BEGIN:VEVENT
DTSTART;TZID=America/Edmonton:20240331T100000
DTEND;TZID=America/Edmonton:20240331T130000
DTSTAMP:20260422T170515
CREATED:20220112T092232Z
LAST-MODIFIED:20240303T001731Z
UID:201-1711879200-1711890000@www.houseofglory.ca
SUMMARY:Easter Sunday Celebration
DESCRIPTION:We are so excited to be celebrating the Easter Season – and we would love to have you join us! Between our two-hour Good Friday service and our Easter Sunday services (packed with excellent worship\, teaching\, kids activities\, continental breakfast\, and other family activities)\, this Easter experience is an exciting and impactful event for the whole family. \nFeaturing warm and meaningful services filled with worship and the Easter story\, this is a great way to celebrate the death and resurrection of Jesus. On top of that\, our kids services (available on Easter Sunday) are a great way to entertain your kids & engage them in the Easter story! \nDon’t Miss These Exciting Easter Sunday Church Service – Celebrate the Resurrection of Jesus with Us During Our Special Easter Sunday Services. Find Community. Join a Family. Encounter God. Find Your Life’s Purpose. \nSo be sure to join us this Easter\, online or in-person.
URL:https://www.houseofglory.ca/event/class-how-to-study-the-bible-3/
LOCATION:The Citadel Centre\, 9253 48 Street NW\, Edmonton\, Alberta\, T6B2R9\, Canada
CATEGORIES:All Church
ATTACH;FMTTYPE=image/jpeg:https://www.houseofglory.ca/wp-content/uploads/2015/04/Easter-Sunday-Celebration.jpg
ORGANIZER;CN="House Of Glory":MAILTO:admin@houseofglory.ca
END:VEVENT
BEGIN:VEVENT
DTSTART;TZID=America/Edmonton:20240329T190000
DTEND;TZID=America/Edmonton:20240329T203000
DTSTAMP:20260422T170515
CREATED:20220112T092452Z
LAST-MODIFIED:20240303T001847Z
UID:203-1711738800-1711744200@www.houseofglory.ca
SUMMARY:Good Friday Celebration
DESCRIPTION:Join us on Good Friday for an intimate in-person or online experience\, as we remember Jesus’ sacrifice for us through a devotional\, time of worship\, prayer\, and Holy communion. This is a family friendly event\, so bring your entire family\, including the little ones for this special experience. It’s going to be life changing for all.
URL:https://www.houseofglory.ca/event/childrens-building-open-house-2/
LOCATION:The Citadel Centre\, 9253 48 Street NW\, Edmonton\, Alberta\, T6B2R9\, Canada
CATEGORIES:All Church
ATTACH;FMTTYPE=image/jpeg:https://www.houseofglory.ca/wp-content/uploads/2015/04/Good-Friday-Celebration.jpg
ORGANIZER;CN="House Of Glory":MAILTO:admin@houseofglory.ca
END:VEVENT
BEGIN:VEVENT
DTSTART;TZID=America/Edmonton:20240303T100000
DTEND;TZID=America/Edmonton:20241201T130000
DTSTAMP:20260422T170515
CREATED:20220103T134502Z
LAST-MODIFIED:20240303T002108Z
UID:107-1709460000-1733058000@www.houseofglory.ca
SUMMARY:Holy Communion Service
DESCRIPTION:Holy Communion at HOGIM is celebrated by the whole people of God gathered for worship Every First Sunday of the month. \nDo you still have questions about why Communion is so important? Why do we take Communion? What Does God say about Communion? How do we take Communion? HOGIM takes the Word of God as final authority in every area of life\, so when we have a question\, we go to God’s Word. That’s where we get God’s direction. In the case of the Lord’s Supper\, or Communion\, let’s go to God’s Word and find out what He said on the subject. \n  \nWhat Does God Say About Communion?\n  \nCommunion is not just a religious observance. It’s a holy time of fellowship with God. Matthew\, Mark and Luke all talk about this event. We are told in Matthew 26:26 that the night Jesus was betrayed\, He and the disciples ate a last supper. This was a holy event in response to the commandment by Moses to memorialize an event named “Passover.” \n  \nSo\, what was Passover? In Exodus chapter 12\, we read about the first Passover. The Israelites were living in slavery in Egypt. God wanted to free them\, so He sent Moses as His messenger. However\, the Egyptian Pharaoh did not want to lose his slaves and refused to let them go. God sent nine plagues to convince Pharaoh to let His people leave\, but Pharaoh wouldn’t listen. So\, God sent one last plague. The plague was that the firstborn male in every family was to die on a specific night. The only way to escape this plague was to put the blood from a male lamb on the sides and top of the outside door of the house. When the death angel saw the blood\, he would “pass over” that house\, and everyone inside would live. \n  \nThough Pharaoh didn’t pay heed to the first nine plagues\, this tenth one got his attention. He let God’s people go. God commanded that this event be celebrated each year as “Passover\,” so the Israelites would remember God’s great deliverance in bringing them out of Egypt and slavery. \n  \nLet’s move forward in time to Jesus and the disciples as they were celebrating the feast of Passover in Matthew 26:26. At this meal\, Jesus took a piece of bread\, blessed it\, tore a piece off for each disciple and announced\, “This is my body\, which is given for you.” \n  \nWhen He said this\, Jesus was actually referring to the coming hours when He\, the perfect Lamb of God\, would be beaten\, tormented\, crucified and buried. Jesus said His body would be broken for us. That was foretold by a prophecy in Isaiah 53:5 that says\, “…He was whipped so we could be healed.” \n  \nDoes that mean that we should believe God wants to literally heal our bodies? How about mental and emotional healing? Does God want to heal that\, too? The resounding answer is “Yes.” Peter quotes that prophecy after the fact in 1 Peter 2:24\, “…by whose stripes you were healed.” \n  \nThe punishment Jesus took in His body was not just an exercise in suffering. Every lash of the whip was a provision for healing. As the leather straps marked His flesh\, that was to heal cancer. The metal barbs cut his skin—that was to heal diabetes. Again\, the whip fell across His back—that was for healing of mental anguish. The whip ripped into His muscles—that was to replace crippled limbs. And on and on it went. Jesus was whipped so you could be healed. It’s simply a matter of believing and receiving this provision of God. \n  \nThen\, in Matthew 26:27-28\, Jesus took a cup\, gave thanks and passed it to the disciples saying\, “This is My blood of the new covenant\, which [ratifies the agreement and] is being poured out for many for the forgiveness of sins.” \n  \nJesus also said to drink the wine\, or grape juice\, to remember that His blood as a sacrificial offering would establish a new agreement: God’s acceptance of men as His children. Jesus’ death and resurrection made a way for us to have a relationship with God. Because of what happened in the Garden of Eden with Adam\, we were born separated from God by sin\, and there was no way to bridge the gap. We couldn’t get free from the punishment of sin without dying.  Jesus took our punishment and died—He paid for our death with His death\, so we can live as children of God. His act has caused us to be forgiven and right with God. \n  \nYou see\, Jesus is the final\, perfect Passover Lamb. He fulfilled the requirements as set forth in Exodus 12. He was a male\, unblemished by sin\, and He was willing to die in our place. When we accept the perfect sacrifice of Jesus in our life\, His blood causes the death angel to pass over us. \nWho can partake of Communion?\n  \nJesus said in Luke 22:19\, “Do this in remembrance of Me.” Therefore\, all believers may receive Communion\, or the Lord’s Supper\, at the instruction of Jesus. \n  \nThe Bible doesn’t instruct that there’s a set time or place to participate in this memorial. A certain person does not have to officiate. You can take Communion in a church service\, at home with your family or by yourself. It is a holy time to remember what Jesus has done for you. \n  \nHow should you receive Communion?\n  \nThe Apostle Paul gave some instructions to believers in 1 Corinthians 11:23-26: \n  \n“For I pass on to you what I received from the Lord himself. On the night when he was betrayed\, the Lord Jesus took some bread and gave thanks to God for it. Then he broke it in pieces and said\, ‘This is my body\, which is given for you. Do this to remember me.’ In the same way\, he took the cup of wine after supper\, saying\, ‘This cup is the new covenant between God and his people—an agreement confirmed with my blood. Do this to remember me as often as you drink it.’ For every time you eat this bread and drink this cup\, you are announcing the Lord’s death until he comes again.” \n  \nSo\, get some wine or grape juice and a cracker\, and spend time with the Lord. Take the time to come to God over the Communion table. As you begin\, say something like this: \n  \nFather God\, in the Name of Jesus\, we recognize that Jesus’ body was broken for us\, that His blood was shed on our behalf. We acknowledge that He carried sin\, sickness\, disease\, sorrow\, grief\, fear\, torment\, unforgiveness\, strife and lack for us. Through His sacrifice for us\, we have complete forgiveness and cleansing before God and total deliverance from the works of Satan. And\, we thank You for it all\, in Jesus’ Name. \n  \nNow\, accept everything Jesus’ sacrifice provided. Call yourself forgiven. Rejoice that God holds nothing against you\, and withholds nothing from you that you ask for that’s His will. Thank God that Jesus prays for you\, and provides for and protects you. Be glad that God has made you worthy to be called His child. \n  \nAlso\, refuse to accept sickness and disease. It’s from Satan\, so reject it. Refuse to receive it any longer. You are partaking of the sacrifice of Jesus’ body\, so receive the healing He provided\, in Jesus’ Name. \n  \nNext\, hold the bread\, and read Luke 22:19 out loud\, “He took some bread and gave thanks to God for it. Then he broke it in pieces and gave it to the disciples\, saying\, ‘This is my body\, which is given for you. Do this to remember me.’” \n  \nEat the bread. \n  \nNow\, hold the cup\, and read Matthew 26:27-28 out loud: “And he took a cup of wine and gave thanks to God for it. He gave it to them and said\, ‘Each of you drink from it\, for this is my blood\, which confirms the covenant between God and his people. It is poured out as a sacrifice to forgive the sins of many.’” \n  \nDrink the cup. \n  \nFinally\, thank God for what He has provided for you through Jesus Christ. Acknowledge that you are blessed. Praise God for His exceeding great and precious promises\, and the fact that you have the right to enjoy those promises. \n  \nYou are healed! You are redeemed\, and you are delivered from the authority of darkness. You have been accepted and moved into the kingdom of God’s dear Son. You are the head and not the tail. You are above only and not beneath. You are not left out of anything good. All that you do\, prospers. Praise God in Jesus’ Name for the new life you enjoy! \n  \nAs you continue to think on the importance of Communion and what God says about it\, here are a few other suggestions that will help you with this special act of remembrance: \n  \n\nRead 1 Corinthians 11:23-26. What stands out to you the most?\nMake an outline of the steps to receive Communion.\nDetermine what you will expect as you receive Communion.\n\n  \nJesus paid the price for our sin\, which was death\, so that we could have eternal life (Romans 6:23). When we take Communion\, we remember that sacrifice and how His blood atones for our sins and made a way for us to live in right-standing with God. Jesus broke the curse from our lives\, which allows us to live in THE BLESSING. It is why Communion is so important!
URL:https://www.houseofglory.ca/event/high-school-ministry/
LOCATION:The Citadel Centre\, 9253 48 Street NW\, Edmonton\, T6B2R9\, Canada
CATEGORIES:All Church
ATTACH;FMTTYPE=image/jpeg:https://www.houseofglory.ca/wp-content/uploads/2015/04/Communion-Service.jpg
ORGANIZER;CN="House Of Glory":MAILTO:admin@houseofglory.ca
END:VEVENT
END:VCALENDAR